BEGIN:VCALENDAR
VERSION:2.0
PRODID:-//Hofäcker e.V. - ECPv6.15.17//NONSGML v1.0//EN
CALSCALE:GREGORIAN
METHOD:PUBLISH
X-ORIGINAL-URL:https://kgv-hofaecker.de
X-WR-CALDESC:Veranstaltungen für Hofäcker e.V.
REFRESH-INTERVAL;VALUE=DURATION:PT1H
X-Robots-Tag:noindex
X-PUBLISHED-TTL:PT1H
BEGIN:VTIMEZONE
TZID:Europe/Berlin
BEGIN:DAYLIGHT
TZOFFSETFROM:+0100
TZOFFSETTO:+0200
TZNAME:CEST
DTSTART:20250330T010000
END:DAYLIGHT
BEGIN:STANDARD
TZOFFSETFROM:+0200
TZOFFSETTO:+0100
TZNAME:CET
DTSTART:20251026T010000
END:STANDARD
BEGIN:DAYLIGHT
TZOFFSETFROM:+0100
TZOFFSETTO:+0200
TZNAME:CEST
DTSTART:20260329T010000
END:DAYLIGHT
BEGIN:STANDARD
TZOFFSETFROM:+0200
TZOFFSETTO:+0100
TZNAME:CET
DTSTART:20261025T010000
END:STANDARD
BEGIN:DAYLIGHT
TZOFFSETFROM:+0100
TZOFFSETTO:+0200
TZNAME:CEST
DTSTART:20270328T010000
END:DAYLIGHT
BEGIN:STANDARD
TZOFFSETFROM:+0200
TZOFFSETTO:+0100
TZNAME:CET
DTSTART:20271031T010000
END:STANDARD
END:VTIMEZONE
BEGIN:VEVENT
DTSTART;TZID=Europe/Berlin:20260814T160000
DTEND;TZID=Europe/Berlin:20260814T210000
DTSTAMP:20260419T191522
CREATED:20260318T171327Z
LAST-MODIFIED:20260318T171540Z
UID:17954-1786723200-1786741200@kgv-hofaecker.de
SUMMARY:🍺 Feierabendbier
DESCRIPTION:Um diesen Inhalt ansehen zu können\, müssen Sie sich anmelden.
URL:https://kgv-hofaecker.de/event/%f0%9f%8d%ba-feierabendbier-5/
LOCATION:Hofäckerstüble\, Hofäckerstraße 40a\, Karlsruhe\, 76139\, Germany
CATEGORIES:Zusammenkommen
ATTACH;FMTTYPE=image/jpeg:https://kgv-hofaecker.de/wp-content/uploads/2025/07/pexels-photo-32759476-32759476-scaled.jpg
ORGANIZER;CN="Hof%C3%A4cker e.V. - Vorstand":MAILTO:vorstand@kgv-hofaecker.de
END:VEVENT
END:VCALENDAR