BEGIN:VCALENDAR
VERSION:2.0
PRODID:-//Hofäcker e.V. - ECPv6.15.17//NONSGML v1.0//EN
CALSCALE:GREGORIAN
METHOD:PUBLISH
X-ORIGINAL-URL:https://kgv-hofaecker.de
X-WR-CALDESC:Veranstaltungen für Hofäcker e.V.
REFRESH-INTERVAL;VALUE=DURATION:PT1H
X-Robots-Tag:noindex
X-PUBLISHED-TTL:PT1H
BEGIN:VTIMEZONE
TZID:Europe/Berlin
BEGIN:DAYLIGHT
TZOFFSETFROM:+0100
TZOFFSETTO:+0200
TZNAME:CEST
DTSTART:20240331T010000
END:DAYLIGHT
BEGIN:STANDARD
TZOFFSETFROM:+0200
TZOFFSETTO:+0100
TZNAME:CET
DTSTART:20241027T010000
END:STANDARD
BEGIN:DAYLIGHT
TZOFFSETFROM:+0100
TZOFFSETTO:+0200
TZNAME:CEST
DTSTART:20250330T010000
END:DAYLIGHT
BEGIN:STANDARD
TZOFFSETFROM:+0200
TZOFFSETTO:+0100
TZNAME:CET
DTSTART:20251026T010000
END:STANDARD
BEGIN:DAYLIGHT
TZOFFSETFROM:+0100
TZOFFSETTO:+0200
TZNAME:CEST
DTSTART:20260329T010000
END:DAYLIGHT
BEGIN:STANDARD
TZOFFSETFROM:+0200
TZOFFSETTO:+0100
TZNAME:CET
DTSTART:20261025T010000
END:STANDARD
END:VTIMEZONE
BEGIN:VEVENT
DTSTART;TZID=Europe/Berlin:20250906T090000
DTEND;TZID=Europe/Berlin:20250906T120000
DTSTAMP:20260419T235320
CREATED:20250905T194826Z
LAST-MODIFIED:20250905T195201Z
UID:17766-1757149200-1757160000@kgv-hofaecker.de
SUMMARY:4. Gemeinschaftsarbeit [2025]
DESCRIPTION:Um diesen Inhalt ansehen zu können\, müssen Sie sich anmelden.
URL:https://kgv-hofaecker.de/event/4-gemeinschaftsarbeit-2025/
LOCATION:Hofäcker e.V.\, Hofäckerstraße 40a\, Karlsruhe\, 76139
CATEGORIES:Gemeinschaftsarbeit
ATTACH;FMTTYPE=image/jpeg:https://kgv-hofaecker.de/wp-content/uploads/2025/02/gc28856bd9367e095c95c06248a9e7c349d568c88567cd6375a22552e4d67829df2bd099616c692e8edb080e575d58be18c4f81294370fbe846bf852632e47034_1280-2447163.jpg
ORGANIZER;CN="Hof%C3%A4cker e.V. - Vorstand":MAILTO:vorstand@kgv-hofaecker.de
END:VEVENT
BEGIN:VEVENT
DTSTART;TZID=Europe/Berlin:20250912T160000
DTEND;TZID=Europe/Berlin:20250912T200000
DTSTAMP:20260419T235320
CREATED:20250713T131236Z
LAST-MODIFIED:20250726T145538Z
UID:17243-1757692800-1757707200@kgv-hofaecker.de
SUMMARY:🍺 Feierabend-Bier
DESCRIPTION:Um diesen Inhalt ansehen zu können\, müssen Sie sich anmelden.
URL:https://kgv-hofaecker.de/event/%f0%9f%8d%ba-feierabend-bier-3/
LOCATION:Hofäckerstüble\, Hofäckerstraße 40a\, Karlsruhe\, 76139\, Germany
CATEGORIES:Zusammenkommen
ATTACH;FMTTYPE=image/jpeg:https://kgv-hofaecker.de/wp-content/uploads/2025/07/pexels-photo-32759476-32759476-scaled.jpg
ORGANIZER;CN="Hof%C3%A4cker e.V. - Vorstand":MAILTO:vorstand@kgv-hofaecker.de
END:VEVENT
BEGIN:VEVENT
DTSTART;TZID=Europe/Berlin:20250926T160000
DTEND;TZID=Europe/Berlin:20250926T200000
DTSTAMP:20260419T235320
CREATED:20250713T131442Z
LAST-MODIFIED:20250726T145506Z
UID:17249-1758902400-1758916800@kgv-hofaecker.de
SUMMARY:🍺 Feierabend-Bier
DESCRIPTION:Um diesen Inhalt ansehen zu können\, müssen Sie sich anmelden.
URL:https://kgv-hofaecker.de/event/%f0%9f%8d%ba-feierabend-bier-4/
LOCATION:Hofäckerstüble\, Hofäckerstraße 40a\, Karlsruhe\, 76139\, Germany
CATEGORIES:Zusammenkommen
ATTACH;FMTTYPE=image/jpeg:https://kgv-hofaecker.de/wp-content/uploads/2025/07/pexels-photo-32759476-32759476-scaled.jpg
ORGANIZER;CN="Hof%C3%A4cker e.V. - Vorstand":MAILTO:vorstand@kgv-hofaecker.de
END:VEVENT
END:VCALENDAR