BEGIN:VCALENDAR
VERSION:2.0
PRODID:-//Hofäcker e.V. - ECPv6.15.17//NONSGML v1.0//EN
CALSCALE:GREGORIAN
METHOD:PUBLISH
X-WR-CALNAME:Hofäcker e.V.
X-ORIGINAL-URL:https://kgv-hofaecker.de
X-WR-CALDESC:Veranstaltungen für Hofäcker e.V.
REFRESH-INTERVAL;VALUE=DURATION:PT1H
X-Robots-Tag:noindex
X-PUBLISHED-TTL:PT1H
BEGIN:VTIMEZONE
TZID:Europe/Berlin
BEGIN:DAYLIGHT
TZOFFSETFROM:+0100
TZOFFSETTO:+0200
TZNAME:CEST
DTSTART:20250330T010000
END:DAYLIGHT
BEGIN:STANDARD
TZOFFSETFROM:+0200
TZOFFSETTO:+0100
TZNAME:CET
DTSTART:20251026T010000
END:STANDARD
BEGIN:DAYLIGHT
TZOFFSETFROM:+0100
TZOFFSETTO:+0200
TZNAME:CEST
DTSTART:20260329T010000
END:DAYLIGHT
BEGIN:STANDARD
TZOFFSETFROM:+0200
TZOFFSETTO:+0100
TZNAME:CET
DTSTART:20261025T010000
END:STANDARD
BEGIN:DAYLIGHT
TZOFFSETFROM:+0100
TZOFFSETTO:+0200
TZNAME:CEST
DTSTART:20270328T010000
END:DAYLIGHT
BEGIN:STANDARD
TZOFFSETFROM:+0200
TZOFFSETTO:+0100
TZNAME:CET
DTSTART:20271031T010000
END:STANDARD
END:VTIMEZONE
BEGIN:VEVENT
DTSTART;TZID=Europe/Berlin:20260718T160000
DTEND;TZID=Europe/Berlin:20260718T210000
DTSTAMP:20260419T191004
CREATED:20260318T172608Z
LAST-MODIFIED:20260318T172608Z
UID:17961-1784390400-1784408400@kgv-hofaecker.de
SUMMARY:☀️ Sommerfest
DESCRIPTION:Um diesen Inhalt ansehen zu können\, müssen Sie sich anmelden.
URL:https://kgv-hofaecker.de/event/%e2%98%80%ef%b8%8f-sommerfest/
LOCATION:Hofäckerstüble\, Hofäckerstraße 40a\, Karlsruhe\, 76139\, Germany
CATEGORIES:Zusammenkommen
ATTACH;FMTTYPE=image/jpeg:https://kgv-hofaecker.de/wp-content/uploads/2025/07/g4a2e5480e918246a0defde3a837de8e5735e25bb19d48a5bff68717bd395d3ed3df255fb78be15840aff98b027a8dfab9119820b1a052dd22823e7b0cdd099a3_1280-3524649.jpg
ORGANIZER;CN="Hof%C3%A4cker e.V. - Vorstand":MAILTO:vorstand@kgv-hofaecker.de
END:VEVENT
END:VCALENDAR