BEGIN:VCALENDAR
VERSION:2.0
PRODID:-//Hofäcker e.V. - ECPv6.15.17//NONSGML v1.0//EN
CALSCALE:GREGORIAN
METHOD:PUBLISH
X-WR-CALNAME:Hofäcker e.V.
X-ORIGINAL-URL:https://kgv-hofaecker.de
X-WR-CALDESC:Veranstaltungen für Hofäcker e.V.
REFRESH-INTERVAL;VALUE=DURATION:PT1H
X-Robots-Tag:noindex
X-PUBLISHED-TTL:PT1H
BEGIN:VTIMEZONE
TZID:Europe/Berlin
BEGIN:DAYLIGHT
TZOFFSETFROM:+0100
TZOFFSETTO:+0200
TZNAME:CEST
DTSTART:20240331T010000
END:DAYLIGHT
BEGIN:STANDARD
TZOFFSETFROM:+0200
TZOFFSETTO:+0100
TZNAME:CET
DTSTART:20241027T010000
END:STANDARD
BEGIN:DAYLIGHT
TZOFFSETFROM:+0100
TZOFFSETTO:+0200
TZNAME:CEST
DTSTART:20250330T010000
END:DAYLIGHT
BEGIN:STANDARD
TZOFFSETFROM:+0200
TZOFFSETTO:+0100
TZNAME:CET
DTSTART:20251026T010000
END:STANDARD
BEGIN:DAYLIGHT
TZOFFSETFROM:+0100
TZOFFSETTO:+0200
TZNAME:CEST
DTSTART:20260329T010000
END:DAYLIGHT
BEGIN:STANDARD
TZOFFSETFROM:+0200
TZOFFSETTO:+0100
TZNAME:CET
DTSTART:20261025T010000
END:STANDARD
END:VTIMEZONE
BEGIN:VEVENT
DTSTART;TZID=Europe/Berlin:20251011T090000
DTEND;TZID=Europe/Berlin:20251011T120000
DTSTAMP:20260419T235114
CREATED:20250905T200831Z
LAST-MODIFIED:20250905T200913Z
UID:17769-1760173200-1760184000@kgv-hofaecker.de
SUMMARY:5. Gemeinschaftsarbeit [2025]
DESCRIPTION:Um diesen Inhalt ansehen zu können\, müssen Sie sich anmelden.
URL:https://kgv-hofaecker.de/event/5-gemeinschaftsarbeit-2025/
LOCATION:Hofäcker e.V.\, Hofäckerstraße 40a\, Karlsruhe\, 76139
CATEGORIES:Gemeinschaftsarbeit
ATTACH;FMTTYPE=image/jpeg:https://kgv-hofaecker.de/wp-content/uploads/2025/02/gc28856bd9367e095c95c06248a9e7c349d568c88567cd6375a22552e4d67829df2bd099616c692e8edb080e575d58be18c4f81294370fbe846bf852632e47034_1280-2447163.jpg
ORGANIZER;CN="Hof%C3%A4cker e.V. - Vorstand":MAILTO:vorstand@kgv-hofaecker.de
END:VEVENT
END:VCALENDAR